BEGIN:VCALENDAR
VERSION:2.0
PRODID:-//SoapMD - ECPv6.15.20//NONSGML v1.0//EN
CALSCALE:GREGORIAN
METHOD:PUBLISH
X-WR-CALNAME:SoapMD
X-ORIGINAL-URL:https://lifespan.md/portal
X-WR-CALDESC:Events for SoapMD
REFRESH-INTERVAL;VALUE=DURATION:PT1H
X-Robots-Tag:noindex
X-PUBLISHED-TTL:PT1H
BEGIN:VTIMEZONE
TZID:UTC
BEGIN:STANDARD
TZOFFSETFROM:+0000
TZOFFSETTO:+0000
TZNAME:UTC
DTSTART:20240101T000000
END:STANDARD
END:VTIMEZONE
BEGIN:VEVENT
DTSTART;VALUE=DATE:20251107
DTEND;VALUE=DATE:20251110
DTSTAMP:20260422T080838
CREATED:20250509T004730Z
LAST-MODIFIED:20251020T153050Z
UID:13413-1762473600-1762732799@lifespan.md
SUMMARY:2nd Annual LifeSpanMD Summit
DESCRIPTION:Lifespan MD Summit Itinerary\nDates: November 7–9\, 2025\nLocation: Arizona Biltmore Hotel\, Scottsdale\, AZ\nFriday\, November 7\n\n\nPartner physicians arrive (mid-day to early afternoon)\n\n\nWelcome Reception and Dinner\n\n\nFireside Chat with Greg Williams and Special Guest: Matt Fritzpatrick\, CEO of Invisible\n\n\nSaturday\, November 8\nMorning\n\n\nBreakfast\n\n\nWelcome Business and Equity Updates\n\n\nMSO Panel\n\n\nPractice Spotlights\n\n\nAfternoon\n\n\nLunch\n\n\nAdvanced Imaging\, Regenerative Medicine\, and Peptides Presentations\n\n\nCurrent and Future Exploration Discussion\n\n\nEvening\n\n\nFarewell Reception and Group Dinner\n\n\nSunday\, November 9\n\n\nPartner physicians depart (anytime this day)
URL:https://lifespan.md/portal/event/2nd-annual-lifespanmd-summit/
END:VEVENT
END:VCALENDAR