BEGIN:VCALENDAR
VERSION:2.0
PRODID:-//SoapMD - ECPv6.15.20//NONSGML v1.0//EN
CALSCALE:GREGORIAN
METHOD:PUBLISH
X-ORIGINAL-URL:https://lifespan.md/portal
X-WR-CALDESC:Events for SoapMD
REFRESH-INTERVAL;VALUE=DURATION:PT1H
X-Robots-Tag:noindex
X-PUBLISHED-TTL:PT1H
BEGIN:VTIMEZONE
TZID:UTC
BEGIN:STANDARD
TZOFFSETFROM:+0000
TZOFFSETTO:+0000
TZNAME:UTC
DTSTART:20240101T000000
END:STANDARD
END:VTIMEZONE
BEGIN:VEVENT
DTSTART;TZID=UTC:20251212T080000
DTEND;TZID=UTC:20251214T170000
DTSTAMP:20260420T131941
CREATED:20250428T195036Z
LAST-MODIFIED:20251110T224136Z
UID:13370-1765526400-1765731600@lifespan.md
SUMMARY:A4M Longevity Fest
DESCRIPTION:The A4M 33rd Annual World Congress is set to be an unmissable event for professionals in the fields of functional and integrative medicine. This December\, join thousands of like-minded experts and industry leaders as we explore the future of healthcare.\nEvent Highlights\n3 Days\n3 Days of Comprehensive Learning and Networking \n\n\n\n5000+ Attendees\n\nConnect with a diverse group of healthcare professionals\, thought leaders\, and innovators from around the globe. \n\n\n\n200+ Educational Sessions\n\nParticipate in a wide range of sessions designed to provide cutting-edge information and practical solutions. Gain insights from renowned speakers and enhance your knowledge base. \n\n\n\n400+ Exhibiting Companies\n\nDiscover the latest products\, services\, and technologies in the healthcare industry. Engage with exhibitors offering groundbreaking solutions to advance your practice.
URL:https://lifespan.md/portal/event/a4m-33rd-annual-world-congress/
LOCATION:Venetian and Palazzo Resort\, 3355 S. Las Vegas Blvd. 89109\, Las Vegas\, NV\, United States
END:VEVENT
END:VCALENDAR