BEGIN:VCALENDAR
VERSION:2.0
PRODID:-//SoapMD - ECPv6.15.20//NONSGML v1.0//EN
CALSCALE:GREGORIAN
METHOD:PUBLISH
X-ORIGINAL-URL:https://lifespan.md/portal
X-WR-CALDESC:Events for SoapMD
REFRESH-INTERVAL;VALUE=DURATION:PT1H
X-Robots-Tag:noindex
X-PUBLISHED-TTL:PT1H
BEGIN:VTIMEZONE
TZID:UTC
BEGIN:STANDARD
TZOFFSETFROM:+0000
TZOFFSETTO:+0000
TZNAME:UTC
DTSTART:20240101T000000
END:STANDARD
END:VTIMEZONE
BEGIN:VTIMEZONE
TZID:America/New_York
BEGIN:DAYLIGHT
TZOFFSETFROM:-0500
TZOFFSETTO:-0400
TZNAME:EDT
DTSTART:20250309T070000
END:DAYLIGHT
BEGIN:STANDARD
TZOFFSETFROM:-0400
TZOFFSETTO:-0500
TZNAME:EST
DTSTART:20251102T060000
END:STANDARD
BEGIN:DAYLIGHT
TZOFFSETFROM:-0500
TZOFFSETTO:-0400
TZNAME:EDT
DTSTART:20260308T070000
END:DAYLIGHT
BEGIN:STANDARD
TZOFFSETFROM:-0400
TZOFFSETTO:-0500
TZNAME:EST
DTSTART:20261101T060000
END:STANDARD
BEGIN:DAYLIGHT
TZOFFSETFROM:-0500
TZOFFSETTO:-0400
TZNAME:EDT
DTSTART:20270314T070000
END:DAYLIGHT
BEGIN:STANDARD
TZOFFSETFROM:-0400
TZOFFSETTO:-0500
TZNAME:EST
DTSTART:20271107T060000
END:STANDARD
END:VTIMEZONE
BEGIN:VEVENT
DTSTART;TZID=UTC:20251212T080000
DTEND;TZID=UTC:20251214T170000
DTSTAMP:20260420T161206
CREATED:20250428T195036Z
LAST-MODIFIED:20251110T224136Z
UID:13370-1765526400-1765731600@lifespan.md
SUMMARY:A4M Longevity Fest
DESCRIPTION:The A4M 33rd Annual World Congress is set to be an unmissable event for professionals in the fields of functional and integrative medicine. This December\, join thousands of like-minded experts and industry leaders as we explore the future of healthcare.\nEvent Highlights\n3 Days\n3 Days of Comprehensive Learning and Networking \n\n\n\n5000+ Attendees\n\nConnect with a diverse group of healthcare professionals\, thought leaders\, and innovators from around the globe. \n\n\n\n200+ Educational Sessions\n\nParticipate in a wide range of sessions designed to provide cutting-edge information and practical solutions. Gain insights from renowned speakers and enhance your knowledge base. \n\n\n\n400+ Exhibiting Companies\n\nDiscover the latest products\, services\, and technologies in the healthcare industry. Engage with exhibitors offering groundbreaking solutions to advance your practice.
URL:https://lifespan.md/portal/event/a4m-33rd-annual-world-congress/
LOCATION:Venetian and Palazzo Resort\, 3355 S. Las Vegas Blvd. 89109\, Las Vegas\, NV\, United States
END:VEVENT
BEGIN:VEVENT
DTSTART;VALUE=DATE:20260115
DTEND;VALUE=DATE:20260118
DTSTAMP:20260420T161206
CREATED:20251110T224452Z
LAST-MODIFIED:20251110T224452Z
UID:13676-1768435200-1768694399@lifespan.md
SUMMARY:A4M: Cognition 360
DESCRIPTION:This premier event is dedicated to exploring cutting-edge advancements in neuroscience\, mental well-being\, and cognitive optimization. Whether you’re focused on treating neurodegenerative diseases\, enhancing mental performance\, or advancing precision brain health therapies\, this summit will inspire\, inform\, and empower you to transform patient outcomes. \nLearn more 
URL:https://lifespan.md/portal/event/a4m-cognition-360/
LOCATION:JW Marriott Orlando Bonnett Creek Resort\, 14900 Chelonia Parkway\, Orlando\, FL\, 32821\, United States
END:VEVENT
BEGIN:VEVENT
DTSTART;VALUE=DATE:20260219
DTEND;VALUE=DATE:20260222
DTSTAMP:20260420T161206
CREATED:20251110T224745Z
LAST-MODIFIED:20251110T224745Z
UID:13678-1771459200-1771718399@lifespan.md
SUMMARY:Integrative Healthcare Symposium
DESCRIPTION:The 21st Annual Integrative Healthcare Symposium offers a premier educational experience designed for integrative health professionals and forward-thinking practitioners. The program delivers comprehensive\, evidence-based insights with practical applications you can immediately bring back to strengthen and validate your practice. \nFrom Medical Doctors and Doctors of Osteopathy to Naturopathic Doctors\, Registered Dietitian Nutritionists\, Nurse Practitioners\, Registered Nurses\, Health Coaches and others\, you will gain access to an exceptional mix of in-depth educational sessions and meaningful networking opportunities with leaders across the field. \nLearn more
URL:https://lifespan.md/portal/event/integrative-healthcare-symposium-2/
LOCATION:Hilton Midtown\, 1335 Avenue of the Americas\, New York\, NY\, 10019\, United States
END:VEVENT
BEGIN:VEVENT
DTSTART;TZID=UTC:20260219T080000
DTEND;TZID=UTC:20260221T170000
DTSTAMP:20260420T161206
CREATED:20250713T203344Z
LAST-MODIFIED:20250713T203344Z
UID:13551-1771488000-1771693200@lifespan.md
SUMMARY:Integrative Healthcare Symposium
DESCRIPTION:The 2026 Integrative Healthcare Symposium welcomes practitioners from all facets of traditional and non-traditional medicine who are dedicated to improving patient outcomes using a holistic approach and advancing the industry. During this three-day\, in-person Symposium\, practitioners can connect\, discover new products\, access actionable\, timely education and have some fun networking\, too. \nHilton Midtown \nNew York\, NY
URL:https://lifespan.md/portal/event/integrative-healthcare-symposium/
ATTACH;FMTTYPE=image/png:https://lifespan.md/portal/wp-content/uploads/sites/2/2025/07/integrative-healthcare-symposium-logo.png
END:VEVENT
BEGIN:VEVENT
DTSTART;TZID=America/New_York:20260509T080000
DTEND;TZID=America/New_York:20260510T170000
DTSTAMP:20260420T161206
CREATED:20260116T223039Z
LAST-MODIFIED:20260116T223120Z
UID:13777-1778313600-1778432400@lifespan.md
SUMMARY:Longevity Med Summit: London
DESCRIPTION:The Longevity Med Summit is the leading global platform advancing longevity medicine\, health optimization\, and evidence-based wellness. Uniting pioneers in biotechnology\, regenerative therapies\, digital health\, nutrition and food supplementancy\, the summit fosters a dynamic exchange shaping the future of healthspan. \n\n\n\n\nIn 2026\, the summit returns for its fourth edition in London (May 9-10) bringing together top physicians\, researchers\, wellness leaders\, and innovators to explore groundbreaking advances in health aging\, technology\, wellness and preventive healthcare. The summit offers a 360° view of innovations transforming health and longevity. This is more than a congress! It’s a catalyst for the future of personalized health.\n\n\nBusiness Design Centre\, London | May 9 -10\, 2026\nLearn More
URL:https://lifespan.md/portal/event/longevity-med-summit-london/
ATTACH;FMTTYPE=image/png:https://lifespan.md/portal/wp-content/uploads/sites/2/2026/01/Screenshot-2026-01-16-at-5.30.49-PM.png
END:VEVENT
BEGIN:VEVENT
DTSTART;VALUE=DATE:20260527
DTEND;VALUE=DATE:20260531
DTSTAMP:20260420T161206
CREATED:20251110T225227Z
LAST-MODIFIED:20251110T225227Z
UID:13680-1779840000-1780185599@lifespan.md
SUMMARY:AIC 2026: IFM's Functional Medicine Conference
DESCRIPTION:Science\, Systems\, and Connection: Enhancing Healthspan with Patient-Centered Solutions\n\n\n\n\n\n\n\nExplore how innovation\, collaboration\, and human connection can transform the future of health. Grounded in scientific rigor and systems thinking\, the theme of AIC 2026 invites practitioners across disciplines to reimagine how we can extend and enrich the healthspan—placing patients\, their experiences\, and the power of connection at the center of every solution. \nTopics determined by this year’s AIC Steering Committee will explore advances in functional medicine research\, clinical applications of artificial intelligence (AI)\, personalized nutrition\, genomics\, the gut-brain axis\, biorhythm and circadian health\, women’s health\, the implementation of functional medicine in conventional healthcare institutions\, and other methods for optimizing patients’ healthspans. \n\nLearn more
URL:https://lifespan.md/portal/event/aic-2026-ifms-functional-medicine-conference/
END:VEVENT
BEGIN:VEVENT
DTSTART;TZID=America/New_York:20260924T080000
DTEND;TZID=America/New_York:20260926T170000
DTSTAMP:20260420T161206
CREATED:20260116T222740Z
LAST-MODIFIED:20260116T222740Z
UID:13776-1790236800-1790442000@lifespan.md
SUMMARY:The Vibrant Longevity Summit 2026
DESCRIPTION:The Summit for Longevity Leaders\nSeptember 24 – 26\, 2026  |  Omni Barton Creek Resort & Spa  |  Austin\, TX \nThe Vibrant Longevity Summit 2026 returns for its third year\, offering an unparalleled stage for clinicians and health leaders to exchange ideas\, learn advanced protocols\, and forge lasting connections—all within the exclusive setting of a full-resort takeover at Omni Barton Creek.\nLearn More
URL:https://lifespan.md/portal/event/the-vibrant-longevity-summit-2026/
LOCATION:Omni Barton Creek Resort\, Austin\, TX\, United States
END:VEVENT
END:VCALENDAR