BEGIN:VCALENDAR
VERSION:2.0
PRODID:-//SoapMD - ECPv6.15.20//NONSGML v1.0//EN
CALSCALE:GREGORIAN
METHOD:PUBLISH
X-ORIGINAL-URL:https://lifespan.md/portal
X-WR-CALDESC:Events for SoapMD
REFRESH-INTERVAL;VALUE=DURATION:PT1H
X-Robots-Tag:noindex
X-PUBLISHED-TTL:PT1H
BEGIN:VTIMEZONE
TZID:UTC
BEGIN:STANDARD
TZOFFSETFROM:+0000
TZOFFSETTO:+0000
TZNAME:UTC
DTSTART:20240101T000000
END:STANDARD
END:VTIMEZONE
BEGIN:VEVENT
DTSTART;VALUE=DATE:20250924
DTEND;VALUE=DATE:20250928
DTSTAMP:20260420T070052
CREATED:20250506T210119Z
LAST-MODIFIED:20250610T164207Z
UID:13398-1758672000-1759017599@lifespan.md
SUMMARY:The Vibrant Longevity Summit
DESCRIPTION:The Vibrant Longevity Summit 2025 is an exclusive\, invitation-only event scheduled for September 24–27\, 2025\, at the Omni Barton Creek Resort & Spa in Austin\, Texas. This summit brings together over 400 leading practitioners in functional and integrative medicine to explore the latest advancements in longevity science and personalized healthcare. \nKey Features of the Summit: \n\nExpert-Led Sessions: Attendees will engage in in-depth learning tracks covering topics such as advanced diagnostic testing\, personalized treatment protocols\, and innovative business strategies in longevity medicine.\nRenowned Speakers: The summit features presentations from esteemed experts in the field\, including Dr. Andrew Huberman and Dr. Peter Attia\, who will share insights into cutting-edge research and clinical applications.\nNetworking Opportunities: Designed to foster meaningful connections\, the event includes structured activities and informal gatherings\, allowing participants to collaborate and share best practices in a luxurious\, distraction-free environment.\nWellness Integration: Set in the serene Texas Hill Country\, the venue offers amenities such as spa treatments\, yoga sessions\, and farm-to-table dining\, promoting a holistic approach to health and well-being.\n\nThe Vibrant Longevity Summit 2025 serves as a platform for healthcare professionals to stay at the forefront of longevity science\, exchange innovative ideas\, and build partnerships that advance the field of personalized medicine.
URL:https://lifespan.md/portal/event/the-vibrant-longevity-summit/
LOCATION:Omni Barton Creek Resort\, Austin\, TX\, United States
END:VEVENT
END:VCALENDAR