BEGIN:VCALENDAR
VERSION:2.0
PRODID:-//SoapMD - ECPv6.15.20//NONSGML v1.0//EN
CALSCALE:GREGORIAN
METHOD:PUBLISH
X-WR-CALNAME:SoapMD
X-ORIGINAL-URL:https://lifespan.md/portal
X-WR-CALDESC:Events for SoapMD
REFRESH-INTERVAL;VALUE=DURATION:PT1H
X-Robots-Tag:noindex
X-PUBLISHED-TTL:PT1H
BEGIN:VTIMEZONE
TZID:America/New_York
BEGIN:DAYLIGHT
TZOFFSETFROM:-0500
TZOFFSETTO:-0400
TZNAME:EDT
DTSTART:20240310T070000
END:DAYLIGHT
BEGIN:STANDARD
TZOFFSETFROM:-0400
TZOFFSETTO:-0500
TZNAME:EST
DTSTART:20241103T060000
END:STANDARD
BEGIN:DAYLIGHT
TZOFFSETFROM:-0500
TZOFFSETTO:-0400
TZNAME:EDT
DTSTART:20250309T070000
END:DAYLIGHT
BEGIN:STANDARD
TZOFFSETFROM:-0400
TZOFFSETTO:-0500
TZNAME:EST
DTSTART:20251102T060000
END:STANDARD
BEGIN:DAYLIGHT
TZOFFSETFROM:-0500
TZOFFSETTO:-0400
TZNAME:EDT
DTSTART:20260308T070000
END:DAYLIGHT
BEGIN:STANDARD
TZOFFSETFROM:-0400
TZOFFSETTO:-0500
TZNAME:EST
DTSTART:20261101T060000
END:STANDARD
END:VTIMEZONE
BEGIN:VTIMEZONE
TZID:UTC
BEGIN:STANDARD
TZOFFSETFROM:+0000
TZOFFSETTO:+0000
TZNAME:UTC
DTSTART:20240101T000000
END:STANDARD
END:VTIMEZONE
BEGIN:VEVENT
DTSTART;VALUE=DATE:20251130
DTEND;VALUE=DATE:20251205
DTSTAMP:20260420T113826
CREATED:20251111T185353Z
LAST-MODIFIED:20251111T192021Z
UID:13686-1764460800-1764892799@lifespan.md
SUMMARY:RSNA 2025 Imaging the Individual
DESCRIPTION:RSNA 2025 aims to explore new frontiers\, push boundaries and bridge the gap between personalized care and global health disparities. \nJoin the global radiology community in exploring the future of precision medicine and inclusivity at RSNA 2025: Imaging the Individual! \nLearn more
URL:https://lifespan.md/portal/event/rsna-radiological-society/
END:VEVENT
BEGIN:VEVENT
DTSTART;TZID=UTC:20251206T090000
DTEND;TZID=UTC:20251208T180000
DTSTAMP:20260420T113826
CREATED:20250810T194713Z
LAST-MODIFIED:20250810T200650Z
UID:13589-1765011600-1765216800@lifespan.md
SUMMARY:Roundtable of Longevity Clinics
DESCRIPTION:Hosted by International Institute of Longevity at the Buck Institute for Research on Aging\nWhat is the Roundtable of Longevity Clinics? \nA premier gathering designed for longevity-focused clinics\, practitioners\, businesses\, and investors to explore and implement the latest trends and scientific advances in extending human healthspan. \nIt serves multiple purposes:\n\nSharing knowledge and best practices for translating longevity science into clinical practice\nEvaluating what’s trending\, evidence-backed\, and effective in the field of longevity\nStriving to define the gold standards for longevity testing and interventions\n\n\nThe 3rd edition will take place from December 6 to 8\, 2025\, hosted at the Buck Institute for Research on Aging in Novato\, California.
URL:https://lifespan.md/portal/event/roundtable-of-longevity-clinics/
LOCATION:Buck Institute for Research on Aging\, 8001 Redwood Blvd\, Novato\, CA\, 94945
END:VEVENT
BEGIN:VEVENT
DTSTART;TZID=UTC:20251212T080000
DTEND;TZID=UTC:20251214T170000
DTSTAMP:20260420T113826
CREATED:20250428T195036Z
LAST-MODIFIED:20251110T224136Z
UID:13370-1765526400-1765731600@lifespan.md
SUMMARY:A4M Longevity Fest
DESCRIPTION:The A4M 33rd Annual World Congress is set to be an unmissable event for professionals in the fields of functional and integrative medicine. This December\, join thousands of like-minded experts and industry leaders as we explore the future of healthcare.\nEvent Highlights\n3 Days\n3 Days of Comprehensive Learning and Networking \n\n\n\n5000+ Attendees\n\nConnect with a diverse group of healthcare professionals\, thought leaders\, and innovators from around the globe. \n\n\n\n200+ Educational Sessions\n\nParticipate in a wide range of sessions designed to provide cutting-edge information and practical solutions. Gain insights from renowned speakers and enhance your knowledge base. \n\n\n\n400+ Exhibiting Companies\n\nDiscover the latest products\, services\, and technologies in the healthcare industry. Engage with exhibitors offering groundbreaking solutions to advance your practice.
URL:https://lifespan.md/portal/event/a4m-33rd-annual-world-congress/
LOCATION:Venetian and Palazzo Resort\, 3355 S. Las Vegas Blvd. 89109\, Las Vegas\, NV\, United States
END:VEVENT
END:VCALENDAR